BEGIN:VCALENDAR
VERSION:2.0
PRODID:-//Wyandot of Anderdon Nation - ECPv6.15.19//NONSGML v1.0//EN
CALSCALE:GREGORIAN
METHOD:PUBLISH
X-WR-CALNAME:Wyandot of Anderdon Nation
X-ORIGINAL-URL:https://www.wyandotofanderdon.com/wp
X-WR-CALDESC:Events for Wyandot of Anderdon Nation
REFRESH-INTERVAL;VALUE=DURATION:PT1H
X-Robots-Tag:noindex
X-PUBLISHED-TTL:PT1H
BEGIN:VTIMEZONE
TZID:America/Detroit
BEGIN:DAYLIGHT
TZOFFSETFROM:-0500
TZOFFSETTO:-0400
TZNAME:EDT
DTSTART:20250309T070000
END:DAYLIGHT
BEGIN:STANDARD
TZOFFSETFROM:-0400
TZOFFSETTO:-0500
TZNAME:EST
DTSTART:20251102T060000
END:STANDARD
BEGIN:DAYLIGHT
TZOFFSETFROM:-0500
TZOFFSETTO:-0400
TZNAME:EDT
DTSTART:20260308T070000
END:DAYLIGHT
BEGIN:STANDARD
TZOFFSETFROM:-0400
TZOFFSETTO:-0500
TZNAME:EST
DTSTART:20261101T060000
END:STANDARD
BEGIN:DAYLIGHT
TZOFFSETFROM:-0500
TZOFFSETTO:-0400
TZNAME:EDT
DTSTART:20270314T070000
END:DAYLIGHT
BEGIN:STANDARD
TZOFFSETFROM:-0400
TZOFFSETTO:-0500
TZNAME:EST
DTSTART:20271107T060000
END:STANDARD
END:VTIMEZONE
BEGIN:VEVENT
DTSTART;TZID=America/Detroit:20260507T190000
DTEND;TZID=America/Detroit:20260507T203000
DTSTAMP:20260420T170627
CREATED:20260322T121154Z
LAST-MODIFIED:20260329T222136Z
UID:10000164-1778180400-1778185800@www.wyandotofanderdon.com
SUMMARY:Wyandot History Series: 1700s
DESCRIPTION:Wyandot History Series: A Journey Through Time \nTake a closer look at Wyandot history through a three-part series\, each session focusing on a different century. Rather than covering everything at once\, we’ll dive deeper into the unique stories\, challenges\, and developments of each time period. \nSession Focus:\nIn this session\, participants will:\n\nImmerse themselves in stories about how the Wyandots lived before the American Revolution.\nUnderstand the contribution that our people made to the founding of Detroit and Windsor.\n\nEvent Details \nEach session runs approximately 90 minutes (EST)\, including \n\nA 60-minute presentation\nA 30 minute discussion and Q&A\n\nAttend one session or all three\, each offers a meaningful opportunity to learn\, reflect\, and connect. \nEligibility \nThis series is exclusively offered to enrolled citizens of the Wyandot of Anderdon Nation. \nRegistration \nTo register\, contact the Education Committee at education@wyandots.org.
URL:https://www.wyandotofanderdon.com/wp/event/wyandot-history-series-1700s-2/
LOCATION:Virtual\, United States
CATEGORIES:Education Classes
ORGANIZER;CN="Education Committee":MAILTO:education@wyandots.org
END:VEVENT
END:VCALENDAR