BEGIN:VCALENDAR
VERSION:2.0
PRODID:-//Wyandot of Anderdon Nation - ECPv6.15.19//NONSGML v1.0//EN
CALSCALE:GREGORIAN
METHOD:PUBLISH
X-WR-CALNAME:Wyandot of Anderdon Nation
X-ORIGINAL-URL:https://www.wyandotofanderdon.com/wp
X-WR-CALDESC:Events for Wyandot of Anderdon Nation
REFRESH-INTERVAL;VALUE=DURATION:PT1H
X-Robots-Tag:noindex
X-PUBLISHED-TTL:PT1H
BEGIN:VTIMEZONE
TZID:America/Detroit
BEGIN:DAYLIGHT
TZOFFSETFROM:-0500
TZOFFSETTO:-0400
TZNAME:EDT
DTSTART:20240310T070000
END:DAYLIGHT
BEGIN:STANDARD
TZOFFSETFROM:-0400
TZOFFSETTO:-0500
TZNAME:EST
DTSTART:20241103T060000
END:STANDARD
BEGIN:DAYLIGHT
TZOFFSETFROM:-0500
TZOFFSETTO:-0400
TZNAME:EDT
DTSTART:20250309T070000
END:DAYLIGHT
BEGIN:STANDARD
TZOFFSETFROM:-0400
TZOFFSETTO:-0500
TZNAME:EST
DTSTART:20251102T060000
END:STANDARD
BEGIN:DAYLIGHT
TZOFFSETFROM:-0500
TZOFFSETTO:-0400
TZNAME:EDT
DTSTART:20260308T070000
END:DAYLIGHT
BEGIN:STANDARD
TZOFFSETFROM:-0400
TZOFFSETTO:-0500
TZNAME:EST
DTSTART:20261101T060000
END:STANDARD
END:VTIMEZONE
BEGIN:VEVENT
DTSTART;TZID=America/Detroit:20250920T000000
DTEND;TZID=America/Detroit:20250920T235959
DTSTAMP:20260425T081356
CREATED:20250602T000024Z
LAST-MODIFIED:20250602T000220Z
UID:10000070-1758326400-1758412799@www.wyandotofanderdon.com
SUMMARY:3rd Annual Chili Cook-Off
DESCRIPTION:Save the Date – 3rd Annual Chili Cook-Off Fundraiser! \nGet ready for some delicious competition! We’re excited to host our 3rd Annual Chili Cook-Off Fundraiser — a fun-filled event featuring awesome chilis to taste and vote on\, raffle baskets\, a 50/50 drawing\, and some new raffle surprises in the works! \n🕒 Time TBD – Stay Tuned📍 More details coming soon! \nWhether you’re entering a chili or just coming to enjoy the flavor and fun\, this is a great way to support the Wyandot of Anderdon Nation and connect with the community. \nMark your calendars — you won’t want to miss it!
URL:https://www.wyandotofanderdon.com/wp/event/3rd-annual-chili-cook-off/
LOCATION:Gibraltar Community Center\, 29340 S. Gibraltar Rd.\, Rockwood\, 48173\, United States
CATEGORIES:Community Outreach,Fundraising
ORGANIZER;CN="WoAN":MAILTO:communications@wyandots.org
END:VEVENT
BEGIN:VEVENT
DTSTART;TZID=America/Detroit:20250920T150000
DTEND;TZID=America/Detroit:20250920T170000
DTSTAMP:20260425T081356
CREATED:20250826T235650Z
LAST-MODIFIED:20250826T235650Z
UID:10000071-1758380400-1758387600@www.wyandotofanderdon.com
SUMMARY:3rd Annual Chili Cookoff
DESCRIPTION:🌶️ Join Us for Our Chili Cook-Off Fundraiser! 🌶️ \nEnjoy a day of fun\, flavor\, and community with delicious chili\, exciting raffle baskets\, a 50/50 drawing\, and a silent auction full of great items. Don’t miss your chance to win DoorDash gift cards and more while supporting the Wyandot of Anderdon Nation!
URL:https://www.wyandotofanderdon.com/wp/event/3rd-annual-chili-cookoff/
LOCATION:Gil Talbert Community Center\, 29430 South Gibraltar Road\, Gibraltar\, MI\, 48173\, United States
CATEGORIES:Community Outreach,Fundraising
ORGANIZER;CN="WoAN":MAILTO:communications@wyandots.org
END:VEVENT
END:VCALENDAR