BEGIN:VCALENDAR
VERSION:2.0
PRODID:-//Wyandot of Anderdon Nation - ECPv6.15.19//NONSGML v1.0//EN
CALSCALE:GREGORIAN
METHOD:PUBLISH
X-WR-CALNAME:Wyandot of Anderdon Nation
X-ORIGINAL-URL:https://www.wyandotofanderdon.com/wp
X-WR-CALDESC:Events for Wyandot of Anderdon Nation
REFRESH-INTERVAL;VALUE=DURATION:PT1H
X-Robots-Tag:noindex
X-PUBLISHED-TTL:PT1H
BEGIN:VTIMEZONE
TZID:America/Detroit
BEGIN:DAYLIGHT
TZOFFSETFROM:-0500
TZOFFSETTO:-0400
TZNAME:EDT
DTSTART:20250309T070000
END:DAYLIGHT
BEGIN:STANDARD
TZOFFSETFROM:-0400
TZOFFSETTO:-0500
TZNAME:EST
DTSTART:20251102T060000
END:STANDARD
BEGIN:DAYLIGHT
TZOFFSETFROM:-0500
TZOFFSETTO:-0400
TZNAME:EDT
DTSTART:20260308T070000
END:DAYLIGHT
BEGIN:STANDARD
TZOFFSETFROM:-0400
TZOFFSETTO:-0500
TZNAME:EST
DTSTART:20261101T060000
END:STANDARD
BEGIN:DAYLIGHT
TZOFFSETFROM:-0500
TZOFFSETTO:-0400
TZNAME:EDT
DTSTART:20270314T070000
END:DAYLIGHT
BEGIN:STANDARD
TZOFFSETFROM:-0400
TZOFFSETTO:-0500
TZNAME:EST
DTSTART:20271107T060000
END:STANDARD
END:VTIMEZONE
BEGIN:VEVENT
DTSTART;TZID=America/Detroit:20260425T100000
DTEND;TZID=America/Detroit:20260425T150000
DTSTAMP:20260420T171555
CREATED:20251230T195814Z
LAST-MODIFIED:20260412T184909Z
UID:10000082-1777111200-1777129200@www.wyandotofanderdon.com
SUMMARY:Native American Storytelling
DESCRIPTION:Join us for an afternoon of Native American Storytelling in the Longhouse at River Raisin National Battlefield Park. There will be traditional stories shared as well as fun crafts to go along with the stories. This event is open to the public. \nTwo Sessions:  \n\nSession 1: 10 am – Noon \nSession 2: 1 pm – 3 pm \n\n Preregistration required to guarantee a spot. \n\nCall:  734-243-7136 to register \nCost: No Charge. \n\n2 crafts including: can drum construction kit and bean plant craft kit\n\n\nGroup sizes are limited to 30 people. \nSame day registration is available but cannot guarantee space. \n\nWe will be inside\, but the Longhouse is chilly. You may bring a blanket if you’d like.  \nDon’t miss out on this amazing cultural event\, call today to reserve your spot! \n \n  \n 
URL:https://www.wyandotofanderdon.com/wp/event/native-american-storytelling-2/
LOCATION:River Raisin National Battlefield Park\, 333 N Dixie Hwy\, Monroe\, MI\, 48162\, United States
CATEGORIES:Community Outreach
END:VEVENT
END:VCALENDAR