BEGIN:VCALENDAR
VERSION:2.0
PRODID:-//Wyandot of Anderdon Nation - ECPv6.15.19//NONSGML v1.0//EN
CALSCALE:GREGORIAN
METHOD:PUBLISH
X-WR-CALNAME:Wyandot of Anderdon Nation
X-ORIGINAL-URL:https://www.wyandotofanderdon.com/wp
X-WR-CALDESC:Events for Wyandot of Anderdon Nation
REFRESH-INTERVAL;VALUE=DURATION:PT1H
X-Robots-Tag:noindex
X-PUBLISHED-TTL:PT1H
BEGIN:VTIMEZONE
TZID:America/Detroit
BEGIN:DAYLIGHT
TZOFFSETFROM:-0500
TZOFFSETTO:-0400
TZNAME:EDT
DTSTART:20250309T070000
END:DAYLIGHT
BEGIN:STANDARD
TZOFFSETFROM:-0400
TZOFFSETTO:-0500
TZNAME:EST
DTSTART:20251102T060000
END:STANDARD
BEGIN:DAYLIGHT
TZOFFSETFROM:-0500
TZOFFSETTO:-0400
TZNAME:EDT
DTSTART:20260308T070000
END:DAYLIGHT
BEGIN:STANDARD
TZOFFSETFROM:-0400
TZOFFSETTO:-0500
TZNAME:EST
DTSTART:20261101T060000
END:STANDARD
BEGIN:DAYLIGHT
TZOFFSETFROM:-0500
TZOFFSETTO:-0400
TZNAME:EDT
DTSTART:20270314T070000
END:DAYLIGHT
BEGIN:STANDARD
TZOFFSETFROM:-0400
TZOFFSETTO:-0500
TZNAME:EST
DTSTART:20271107T060000
END:STANDARD
END:VTIMEZONE
BEGIN:VEVENT
DTSTART;TZID=America/Detroit:20260304T190000
DTEND;TZID=America/Detroit:20260304T200000
DTSTAMP:20260420T131121
CREATED:20260214T141749Z
LAST-MODIFIED:20260214T141749Z
UID:10000161-1772650800-1772654400@www.wyandotofanderdon.com
SUMMARY:Bylaws Q & A Session
DESCRIPTION:  \nThe Bylaws Committee has revised and updated the WoAN Bylaws Document. This document update requires citizen vote to accept the changes. To that end\, a copy of the revised Bylaws was mailed to citizens on January 5\, 2026. This event is a Q & A Session to address and answer all questions regarding the updates. \nThere will also be one last chance to ask questions during the Annual meeting on Sunday\, March 22\, 2026 at 2 pm. \nWe will use TEAMS for our remote meeting format. This requires a RSVP to membership@wyandots.org. The citizen will receive an invitation the day of the meeting.
URL:https://www.wyandotofanderdon.com/wp/event/bylaws-q-a-session-2/
LOCATION:Virtual\, United States
ORGANIZER;CN="WoAN":MAILTO:communications@wyandots.org
END:VEVENT
BEGIN:VEVENT
DTSTART;TZID=America/Detroit:20260311T190000
DTEND;TZID=America/Detroit:20260311T210000
DTSTAMP:20260420T131121
CREATED:20260208T182119Z
LAST-MODIFIED:20260208T182119Z
UID:10000086-1773255600-1773262800@www.wyandotofanderdon.com
SUMMARY:Council Meeting
DESCRIPTION:Click the title of this event for more info. \nVirtually via Free Conference Call. Join info below.\nLink: https://join.freeconferencecall.com/secretary771\nAccess Code: 711700 \nDial-in phone number: (425) 436-6390 \nGuests are welcome to join the Council meetings to listen to the discussions and decisions made on behalf of the Nation!
URL:https://www.wyandotofanderdon.com/wp/event/council-meeting-3/2026-03-11/
LOCATION:Virtual\, United States
CATEGORIES:Council Meeting
ORGANIZER;CN="WoAN":MAILTO:communications@wyandots.org
END:VEVENT
BEGIN:VEVENT
DTSTART;TZID=America/Detroit:20260322T140000
DTEND;TZID=America/Detroit:20260322T160000
DTSTAMP:20260420T131121
CREATED:20260214T153600Z
LAST-MODIFIED:20260214T153600Z
UID:10000162-1774188000-1774195200@www.wyandotofanderdon.com
SUMMARY:Annual Meeting
DESCRIPTION:The Wyandot of Anderdon Nation Annual Meeting.\n\nAgendas were mailed out January 2026.\n\nThere will be a Bylaws Q & A Session and citizen voting held at this meeting.  Citizens will be asked to provide their name\, roll number and verbal vote to accept or reject Bylaw changes.\n\nQuestions: membership@wyandots.org\n\nWe will use TEAMS for our remote meeting format.  This requires a RSVP to membership@wyandots.org  The citizen will receive an invitation the day of the meeting.
URL:https://www.wyandotofanderdon.com/wp/event/annual-meeting-2/
LOCATION:Virtual\, United States
ORGANIZER;CN="WoAN":MAILTO:communications@wyandots.org
END:VEVENT
BEGIN:VEVENT
DTSTART;TZID=America/Detroit:20260325T190000
DTEND;TZID=America/Detroit:20260325T210000
DTSTAMP:20260420T131121
CREATED:20260208T184239Z
LAST-MODIFIED:20260208T184239Z
UID:10000151-1774465200-1774472400@www.wyandotofanderdon.com
SUMMARY:Executive Committee Meeting
DESCRIPTION:
URL:https://www.wyandotofanderdon.com/wp/event/executive-committee-meeting/2026-03-25/
LOCATION:MI
CATEGORIES:Council Meeting
ORGANIZER;CN="WoAN":MAILTO:communications@wyandots.org
END:VEVENT
BEGIN:VEVENT
DTSTART;TZID=America/Detroit:20260328T120000
DTEND;TZID=America/Detroit:20260328T170000
DTSTAMP:20260420T131121
CREATED:20251230T200710Z
LAST-MODIFIED:20251230T200710Z
UID:10000083-1774699200-1774717200@www.wyandotofanderdon.com
SUMMARY:52nd Annual Dance for Mother Earth Pow Wow (Ann Arbor Pow Wow)
DESCRIPTION:The Ann Arbor Pow Wow—officially known as the Dance for Mother Earth Pow Wow—returns for its 52nd year on March 28–29\, 2026. This long-standing cultural celebration brings together dancers\, singers\, drummers\, and community members to honor Native traditions and community. \n📅 Dates:Saturday\, March 28 & Sunday\, March 29\, 2026Events traditionally begin at noon \n📍 Location:Skyline High SchoolAnn Arbor\, Michigan \nWhat to Expect\nWhile the full 2026 schedule has not yet been released\, attendees can expect a traditional pow wow format\, including: \n\n\nGrand Entries – Formal openings featuring dancers\, drums\, and flag processions \n\n\nDance Competitions – Multiple categories for men\, women\, and youth \n\n\nDrumming & Singing – Traditional and contemporary Native songs \n\n\nFood & Craft Vendors – Authentic Native-made goods and cuisine \n\n\nCommunity Gathering – A welcoming space for cultural learning and connection \n\n\nSchedule Updates\nThe detailed schedule for 2026 (including Grand Entry times and specific activities) will be announced closer to the event date. Updates are typically shared by the event organizers\, often through the University of Michigan Native American Student Association.In previous years\, events and Grand Entry began at noon.
URL:https://www.wyandotofanderdon.com/wp/event/52nd-annual-dance-for-mother-earth-pow-wow-ann-arbor-pow-wow/2026-03-28/
LOCATION:MI
END:VEVENT
BEGIN:VEVENT
DTSTART;TZID=America/Detroit:20260329T120000
DTEND;TZID=America/Detroit:20260329T170000
DTSTAMP:20260420T131121
CREATED:20251230T200710Z
LAST-MODIFIED:20251230T200710Z
UID:10000084-1774785600-1774803600@www.wyandotofanderdon.com
SUMMARY:52nd Annual Dance for Mother Earth Pow Wow (Ann Arbor Pow Wow)
DESCRIPTION:The Ann Arbor Pow Wow—officially known as the Dance for Mother Earth Pow Wow—returns for its 52nd year on March 28–29\, 2026. This long-standing cultural celebration brings together dancers\, singers\, drummers\, and community members to honor Native traditions and community. \n📅 Dates:Saturday\, March 28 & Sunday\, March 29\, 2026Events traditionally begin at noon \n📍 Location:Skyline High SchoolAnn Arbor\, Michigan \nWhat to Expect\nWhile the full 2026 schedule has not yet been released\, attendees can expect a traditional pow wow format\, including: \n\n\nGrand Entries – Formal openings featuring dancers\, drums\, and flag processions \n\n\nDance Competitions – Multiple categories for men\, women\, and youth \n\n\nDrumming & Singing – Traditional and contemporary Native songs \n\n\nFood & Craft Vendors – Authentic Native-made goods and cuisine \n\n\nCommunity Gathering – A welcoming space for cultural learning and connection \n\n\nSchedule Updates\nThe detailed schedule for 2026 (including Grand Entry times and specific activities) will be announced closer to the event date. Updates are typically shared by the event organizers\, often through the University of Michigan Native American Student Association.In previous years\, events and Grand Entry began at noon.
URL:https://www.wyandotofanderdon.com/wp/event/52nd-annual-dance-for-mother-earth-pow-wow-ann-arbor-pow-wow/2026-03-29/
LOCATION:MI
END:VEVENT
END:VCALENDAR